BEGIN:VCALENDAR
VERSION:2.0
PRODID:-//wp-events-plugin.com//7.2.3.1//EN
TZID:Europe/Berlin
X-WR-TIMEZONE:Europe/Berlin
BEGIN:VEVENT
UID:473@cza.de
DTSTART;TZID=Europe/Berlin:20250629T180000
DTEND;TZID=Europe/Berlin:20250629T193000
DTSTAMP:20250609T164824Z
URL:https://www.cza.de/events/cza-gebetsgottesdienst-29-06-2025-18-uhr/
SUMMARY:CZA-Gebetsgottesdienst 29.06.2025 18 Uhr
DESCRIPTION:[fusion_builder_container hundred_percent="no" equal_height_col
 umns="no" hide_on_mobile="small-visibility\,medium-visibility\,large-visib
 ility" background_position="center center" background_repeat="no-repeat" f
 ade="no" background_parallax="none" parallax_speed="0.3" video_aspect_rati
 o="16:9" video_loop="yes" video_mute="yes" border_style="solid" type="lega
 cy"][fusion_builder_row][fusion_builder_column type="1_1" layout="1_1" bac
 kground_position="left top" border_style="solid" border_position="all" spa
 cing="yes" background_repeat="no-repeat" margin_top="0px" margin_bottom="0
 px" animation_speed="0.3" animation_direction="left" hide_on_mobile="small
 -visibility\,medium-visibility\,large-visibility" center_content="no" last
 ="true" hover_type="none" first="true" min_height="" link="" background_bl
 end_mode="overlay"][fusion_text columns="" column_min_width="" column_spac
 ing="" rule_style="" rule_size="" rule_color="" hue="" saturation="" light
 ness="" alpha="" content_alignment_medium="" content_alignment_small="" co
 ntent_alignment="" hide_on_mobile="small-visibility\,medium-visibility\,la
 rge-visibility" sticky_display="normal\,sticky" class="" id="" margin_top=
 "" margin_right="" margin_bottom="" margin_left="" fusion_font_family_text
 _font="" fusion_font_variant_text_font="" font_size="" line_height="" lett
 er_spacing="" text_transform="" text_color="" animation_type="" animation_
 direction="left" animation_color="" animation_speed="0.3" animation_delay=
 "0" animation_offset=""]\nCZA-Gebetsgottesdienst 29.06.2025 18 Uhr\nLeitun
 g: Pastor Christian Turkat\n\n\n\n\nHerr\, erwecke deine Kirche\nund fange
  bei mir an!\nHerr\, baue deine Gemeinde\nund fange bei mir an!\nHerr\, la
 ss Frieden überall auf Erden kommen\nund fange bei mir an!\nHerr\, bring 
 deine Liebe und Wahrheit zu allen Menschen\nund fange bei mir an!\nGebet e
 ines chinesischen Christen\n\n\n\n[/fusion_text][fusion_gallery lightbox="
 yes" hide_on_mobile="small-visibility\,medium-visibility\,large-visibility
 "][fusion_gallery_image image="https://www.cza.de/wp-content/uploads/DSCF4
 604-scaled.jpg" image_id="7008" linktarget="_self" /][fusion_gallery_image
  image="https://www.cza.de/wp-content/uploads/DSCF4611-scaled.jpg" image_i
 d="7009" linktarget="_self" /][fusion_gallery_image image="https://www.cza
 .de/wp-content/uploads/DSCF4614-scaled.jpg" image_id="7010" linktarget="_s
 elf" /][fusion_gallery_image image="https://www.cza.de/wp-content/uploads/
 DSCF4617-2-scaled.jpg" image_id="7011" linktarget="_self" /][fusion_galler
 y_image image="https://www.cza.de/wp-content/uploads/DSCF4622-scaled.jpg" 
 image_id="7012" linktarget="_self" /][fusion_gallery_image image="https://
 www.cza.de/wp-content/uploads/DSCF4626.jpg" image_id="7013" linktarget="_s
 elf" /][fusion_gallery_image image="https://www.cza.de/wp-content/uploads/
 DSCF4629-scaled.jpg" image_id="7014" linktarget="_self" /][fusion_gallery_
 image image="https://www.cza.de/wp-content/uploads/DSCF4649_klein.jpg" ima
 ge_id="7015" linktarget="_self" /][/fusion_gallery][/fusion_builder_column
 ][/fusion_builder_row][/fusion_builder_container]
ATTACH;FMTTYPE=image/jpeg:https://www.cza.de/wp-content/uploads/pexels-cal
 eb-oquendo-19130852-scaled-e1702226511617.jpg
LOCATION:Christus-Zentrum Arche Elmshorn\, Lornsenstraße 53\, Elmshorn\, 2
 5335\, Deutschland
X-APPLE-STRUCTURED-LOCATION;VALUE=URI;X-ADDRESS=Lornsenstraße 53\, Elmshor
 n\, 25335\, Deutschland;X-APPLE-RADIUS=100;X-TITLE=Christus-Zentrum Arche 
 Elmshorn:geo:0,0
END:VEVENT
BEGIN:VTIMEZONE
TZID:Europe/Berlin
X-LIC-LOCATION:Europe/Berlin
BEGIN:DAYLIGHT
DTSTART:20250330T030000
TZOFFSETFROM:+0100
TZOFFSETTO:+0200
TZNAME:CEST
END:DAYLIGHT
END:VTIMEZONE
END:VCALENDAR