BEGIN:VCALENDAR
VERSION:2.0
PRODID:-//wp-events-plugin.com//7.2.3.1//EN
TZID:Europe/Berlin
X-WR-TIMEZONE:Europe/Berlin
BEGIN:VEVENT
UID:553@cza.de
DTSTART;TZID=Europe/Berlin:20260502T100000
DTEND;TZID=Europe/Berlin:20260502T120000
DTSTAMP:20260424T164015Z
URL:https://www.cza.de/events/cza-arbeitskreis-israel-laedt-ein-gebet-fuer
 -israel-10/
SUMMARY:CZA-Arbeitskreis Israel lädt ein: Gebet für Israel
DESCRIPTION:[fusion_builder_container hundred_percent="no" equal_height_col
 umns="no" hide_on_mobile="small-visibility\,medium-visibility\,large-visib
 ility" background_position="center center" background_repeat="no-repeat" f
 ade="no" background_parallax="none" parallax_speed="0.3" video_aspect_rati
 o="16:9" video_loop="yes" video_mute="yes" border_style="solid" type="lega
 cy"][fusion_builder_row][fusion_builder_column type="1_1" layout="1_1" bac
 kground_position="left top" border_style="solid" border_position="all" spa
 cing="yes" background_repeat="no-repeat" margin_top="0px" margin_bottom="0
 px" animation_speed="0.3" animation_direction="left" hide_on_mobile="small
 -visibility\,medium-visibility\,large-visibility" center_content="no" last
 ="true" hover_type="none" first="true" background_blend_mode="overlay" min
 _height="" link=""][fusion_text columns="" column_min_width="" column_spac
 ing="" rule_style="" rule_size="" rule_color="" hue="" saturation="" light
 ness="" alpha="" content_alignment_medium="" content_alignment_small="" co
 ntent_alignment="" hide_on_mobile="small-visibility\,medium-visibility\,la
 rge-visibility" sticky_display="normal\,sticky" class="" id="" margin_top=
 "" margin_right="" margin_bottom="" margin_left="" fusion_font_family_text
 _font="" fusion_font_variant_text_font="" font_size="" line_height="" lett
 er_spacing="" text_transform="" text_color="" animation_type="" animation_
 direction="left" animation_color="" animation_speed="0.3" animation_delay=
 "0" animation_offset=""]\nGebet für Israel 10 - 12 Uhr\nWir lesen zu Begi
 nn Bibelstellen aus der jeweiligen Shabbatlesung\, tauschen uns über Gebe
 tsanliegen aus und bringen sie dann gemeinsam vor Gott.\n\nKonkret beten w
 ir um Bewahrung für alle Menschen in Israel und ein harmonisches Zusammen
 leben sowie für die messianischen Juden und ihre Gemeinden. Ein besondere
 s Anliegen sind die messianischen Juden und ihre Gemeinden. Die Verheißun
 gen Gottes in der ganzen Bibel für Israel und die Nationen bleiben uns da
 bei Maßstab und Leitfaden.\n\nWir beten für die Menschen in Israel\, die
  Jesus Christus noch nicht kennen\, dass sie ihn kennen lernen.\n\nEin and
 eres wichtiges Gebetsanliegen ist die gesellschaftliche und politische Sit
 uation in Israel: möge Gottes Shalom in alle innerisraelischen Konflikte 
 hineinkommen.\n\nIn unseren Gebeten treten wir auch für verbesserte Bezie
 hungen zwischen Israel und den benachbarten Staaten ein.\n\nEin weiteres G
 ebetsanliegen sind die deutsche und die israelische Regierung und deren Be
 ziehungen zueinander. Auf Grund unserer deutschen Geschichte (Holocaust) s
 ehen wir darin einen besonderen Auftrag.\n\nDa sich der Antisemitismus in 
 der Welt und auch wieder in Deutschland immer stärker und offener ausbrei
 tet\, bitten wir Gott sowohl um Eindämmung dieses Hasses auf Juden als au
 ch um Bewahrung vor Übergriffen jüdischer Menschen im Ausland.\n\nEin he
 rzliches Willkommen an alle Interessierten\, sich mit uns im Gebet eins zu
  machen.\n\nKlaus Fesefeldt und Team\n\n[/fusion_text][/fusion_builder_col
 umn][/fusion_builder_row][/fusion_builder_container]
ATTACH;FMTTYPE=image/jpeg:https://www.cza.de/wp-content/uploads/israeli-fl
 ag-4404258_1920.jpg
LOCATION:Christus-Zentrum Arche Elmshorn\, Lornsenstraße 53\, Elmshorn\, 2
 5335\, Deutschland
X-APPLE-STRUCTURED-LOCATION;VALUE=URI;X-ADDRESS=Lornsenstraße 53\, Elmshor
 n\, 25335\, Deutschland;X-APPLE-RADIUS=100;X-TITLE=Christus-Zentrum Arche 
 Elmshorn:geo:0,0
END:VEVENT
BEGIN:VTIMEZONE
TZID:Europe/Berlin
X-LIC-LOCATION:Europe/Berlin
BEGIN:DAYLIGHT
DTSTART:20260329T030000
TZOFFSETFROM:+0100
TZOFFSETTO:+0200
TZNAME:CEST
END:DAYLIGHT
END:VTIMEZONE
END:VCALENDAR