BEGIN:VCALENDAR
VERSION:2.0
PRODID:-//wp-events-plugin.com//7.2.3.1//EN
TZID:Europe/Berlin
X-WR-TIMEZONE:Europe/Berlin
BEGIN:VEVENT
UID:419@cza.de
DTSTART;TZID=Europe/Berlin:20241214T180000
DTEND;TZID=Europe/Berlin:20241214T203000
DTSTAMP:20241127T171852Z
URL:https://www.cza.de/events/buehne-frei/
SUMMARY:Weihnachtsevent: Bühne frei!
DESCRIPTION:[fusion_builder_container hundred_percent="no" hundred_percent_
 height="no" hundred_percent_height_scroll="no" hundred_percent_height_cent
 er_content="yes" equal_height_columns="no" hide_on_mobile="small-visibilit
 y\,medium-visibility\,large-visibility" status="published" border_style="s
 olid" gradient_start_position="0" gradient_end_position="100" gradient_typ
 e="linear" radial_direction="center center" linear_angle="180" background_
 position="center center" background_repeat="no-repeat" fade="no" backgroun
 d_parallax="none" enable_mobile="no" parallax_speed="0.3" background_blend
 _mode="none" video_aspect_ratio="16:9" video_loop="yes" video_mute="yes" f
 ilter_hue="0" filter_saturation="100" filter_brightness="100" filter_contr
 ast="100" filter_invert="0" filter_sepia="0" filter_opacity="100" filter_b
 lur="0" filter_hue_hover="0" filter_saturation_hover="100" filter_brightne
 ss_hover="100" filter_contrast_hover="100" filter_invert_hover="0" filter_
 sepia_hover="0" filter_opacity_hover="100" filter_blur_hover="0" type="leg
 acy"][fusion_builder_row][fusion_builder_column type="1_1" layout="1_1" ce
 nter_content="no" target="_self" hide_on_mobile="small-visibility\,medium-
 visibility\,large-visibility" hover_type="none" border_style="solid" borde
 r_position="all" box_shadow="no" box_shadow_blur="0" box_shadow_spread="0"
  background_type="single" gradient_start_position="0" gradient_end_positio
 n="100" gradient_type="linear" radial_direction="center center" linear_ang
 le="180" background_position="left top" background_repeat="no-repeat" back
 ground_blend_mode="none" animation_direction="left" animation_speed="0.3" 
 filter_type="regular" filter_hue="0" filter_saturation="100" filter_bright
 ness="100" filter_contrast="100" filter_invert="0" filter_sepia="0" filter
 _opacity="100" filter_blur="0" filter_hue_hover="0" filter_saturation_hove
 r="100" filter_brightness_hover="100" filter_contrast_hover="100" filter_i
 nvert_hover="0" filter_sepia_hover="0" filter_opacity_hover="100" filter_b
 lur_hover="0" last="true" border_sizes_top="0" border_sizes_bottom="0" bor
 der_sizes_left="0" border_sizes_right="0" first="true" min_height="" link=
 ""][fusion_text columns="" column_min_width="" column_spacing="" rule_styl
 e="" rule_size="" rule_color="" hue="" saturation="" lightness="" alpha=""
  content_alignment_medium="" content_alignment_small="" content_alignment=
 "" hide_on_mobile="small-visibility\,medium-visibility\,large-visibility" 
 sticky_display="normal\,sticky" class="" id="" margin_top="" margin_right=
 "" margin_bottom="" margin_left="" fusion_font_family_text_font="" fusion_
 font_variant_text_font="" font_size="" line_height="" letter_spacing="" te
 xt_transform="" text_color="" animation_type="" animation_direction="left"
  animation_color="" animation_speed="0.3" animation_delay="0" animation_of
 fset=""]\n\n🎄✨ Einladung zum CZA-Weihnachtsevent: "Bühne frei!" ✨
 🎄\n\nWir laden herzlich ein zu einem festlichen und besonderen Abend am
  Samstag\, 14. Dezember 2024\, von 18:00 bis 20:30 Uhr.\n\nUnter dem Motto
  "Bühne frei!" haben wir ein buntes\, lebendiges und besinnliches Program
 m aus Euren Beiträgen zusammengestellt. Es gibt Musik und Tanz\, gemeinsa
 me Lieder\, Gedichte und Geschichten\, und alles wird unsere Herzen zum La
 chen und Leuchten bringen.\n\nKommt vorbei\, bringt Freunde\, Nachbarn und
  Familie mit. Der Eintritt ist frei. Ab 17:15 Uhr und in der Pause gibt es
  Grillwurst\, Brezel\, Kinderpunsch und Glühwein (eine Spende für die El
 mshorner Tafel wird gerne entgegengenommen).\n\nLasst uns die Adventszeit 
 feiern – mit Herz\, Gemeinschaft und Freude\, denn: Christ\, der Retter\
 , ist da!\n\nWir freuen uns mit Euch auf die vielen verschiedenen Beiträg
 e\,\n\nEure Angela Mumssen und Esther Dymel-Sohl\n\n[/fusion_text][/fusion
 _builder_column][/fusion_builder_row][/fusion_builder_container]
ATTACH;FMTTYPE=image/jpeg:https://www.cza.de/wp-content/uploads/IMG_0312-s
 caled.jpg
LOCATION:Christus Zentrum Arche\, Lornsenstraße 53\, Elmshorn\, 25335\, De
 utschland
X-APPLE-STRUCTURED-LOCATION;VALUE=URI;X-ADDRESS=Lornsenstraße 53\, Elmshor
 n\, 25335\, Deutschland;X-APPLE-RADIUS=100;X-TITLE=Christus Zentrum Arche:
 geo:0,0
END:VEVENT
BEGIN:VTIMEZONE
TZID:Europe/Berlin
X-LIC-LOCATION:Europe/Berlin
BEGIN:STANDARD
DTSTART:20241027T020000
TZOFFSETFROM:+0200
TZOFFSETTO:+0100
TZNAME:CET
END:STANDARD
END:VTIMEZONE
END:VCALENDAR