BEGIN:VCALENDAR
VERSION:2.0
PRODID:-//wp-events-plugin.com//7.2.3.1//EN
TZID:Europe/Berlin
X-WR-TIMEZONE:Europe/Berlin
BEGIN:VEVENT
UID:554@cza.de
DTSTART;TZID=Europe/Berlin:20260608T190000
DTEND;TZID=Europe/Berlin:20260720T210000
DTSTAMP:20260424T202617Z
URL:https://www.cza.de/events/alpha-kurs-kompakt/
SUMMARY:Alpha-Kurs kompakt
DESCRIPTION:[fusion_builder_container hundred_percent="no" hundred_percent_
 height="no" hundred_percent_height_scroll="no" hundred_percent_height_cent
 er_content="yes" equal_height_columns="no" hide_on_mobile="small-visibilit
 y\,medium-visibility\,large-visibility" status="published" border_style="s
 olid" gradient_start_position="0" gradient_end_position="100" gradient_typ
 e="linear" radial_direction="center center" linear_angle="180" background_
 position="center center" background_repeat="no-repeat" fade="no" backgroun
 d_parallax="none" enable_mobile="no" parallax_speed="0.3" background_blend
 _mode="none" video_aspect_ratio="16:9" video_loop="yes" video_mute="yes" f
 ilter_hue="0" filter_saturation="100" filter_brightness="100" filter_contr
 ast="100" filter_invert="0" filter_sepia="0" filter_opacity="100" filter_b
 lur="0" filter_hue_hover="0" filter_saturation_hover="100" filter_brightne
 ss_hover="100" filter_contrast_hover="100" filter_invert_hover="0" filter_
 sepia_hover="0" filter_opacity_hover="100" filter_blur_hover="0" type="leg
 acy"][fusion_builder_row][fusion_builder_column type="1_1" layout="1_1" ce
 nter_content="no" target="_self" hide_on_mobile="small-visibility\,medium-
 visibility\,large-visibility" hover_type="none" border_style="solid" borde
 r_position="all" box_shadow="no" box_shadow_blur="0" box_shadow_spread="0"
  background_type="single" gradient_start_position="0" gradient_end_positio
 n="100" gradient_type="linear" radial_direction="center center" linear_ang
 le="180" background_position="left top" background_repeat="no-repeat" back
 ground_blend_mode="none" animation_direction="left" animation_speed="0.3" 
 filter_type="regular" filter_hue="0" filter_saturation="100" filter_bright
 ness="100" filter_contrast="100" filter_invert="0" filter_sepia="0" filter
 _opacity="100" filter_blur="0" filter_hue_hover="0" filter_saturation_hove
 r="100" filter_brightness_hover="100" filter_contrast_hover="100" filter_i
 nvert_hover="0" filter_sepia_hover="0" filter_opacity_hover="100" filter_b
 lur_hover="0" last="true" border_sizes_top="0" border_sizes_bottom="0" bor
 der_sizes_left="0" border_sizes_right="0" first="true" min_height="" link=
 ""][fusion_text hide_on_mobile="small-visibility\,medium-visibility\,large
 -visibility" sticky_display="normal\,sticky" animation_direction="left" an
 imation_speed="0.3" animation_delay="0"]\nAlpha-Kurs kompakt\nab 08.06.202
 6 im Christus-Zentrum Arche Elmshorn\n\n\n\n\n\nAuf der Suche nach dem Sin
 n des Lebens? Willkommen bei Alpha kompakt!\nStarte jetzt dein Abenteuer u
 nd entdecke Leben\, Glaube\, Sinn.\n\n 	Ab dem 08.06.2026 an 7 Abenden jew
 eils montags von 19:00 bis 21:00 Uhr im CZA\n 	Am 04.07.2026 gibt es von 1
 0:00 - 17:00 Uhr einen Alpha-Tag\n 	Am 25.07.2026 feiern wir von 17:00 - 2
 0:00 Uhr das Alpha-Abschlussfest\n 	Die Teilnahme ist kostenlos\n\n\n\n\n\
 n\n\n\n\nWas ist Alpha kompakt?\n\n 	9 interaktive Treffen\n 	lockere\, of
 fene Atmosphäre\n\nFür wen ist Alpha kompakt?\n\n 	alle\, die mehr über
  den christlichen Glauben erfahren möchten\n 	Vorkenntnisse nicht erforde
 rlich\n\nWie läuft Alpha kompakt ab?\n\n 	Vorträge über zentrale Themen
  des Glaubens\n 	eigene Fragen und Gedankenaustausch in Gruppen\n\n\n\n\n\
 n[/fusion_text][fusion_content_boxes layout="icon-with-title" columns="1" 
 icon_align="left" animation_direction="left" animation_speed="0.3" animati
 on_delay="0" hide_on_mobile="small-visibility\,medium-visibility\,large-vi
 sibility" heading_size="2" iconspin="no"][fusion_content_box linktext="Rea
 d More" animation_direction="left" animation_speed="0.3"]\nAnmeldung zu Al
 pha kompakt - Beginn 08.06.2026\n[caldera_form id="CF5d1e080032175"]\n\n[/
 fusion_content_box][/fusion_content_boxes][/fusion_builder_column][/fusion
 _builder_row][/fusion_builder_container][fusion_builder_container type="fl
 ex" hundred_percent="no" hundred_percent_height="no" hundred_percent_heigh
 t_scroll="no" align_content="stretch" flex_align_items="flex-start" flex_j
 ustify_content="flex-start" hundred_percent_height_center_content="yes" eq
 ual_height_columns="no" container_tag="div" hide_on_mobile="small-visibili
 ty\,medium-visibility\,large-visibility" status="published" border_style="
 solid" box_shadow="no" box_shadow_blur="0" box_shadow_spread="0" gradient_
 start_position="0" gradient_end_position="100" gradient_type="linear" radi
 al_direction="center center" linear_angle="180" background_position="cente
 r center" background_repeat="no-repeat" fade="no" background_parallax="non
 e" enable_mobile="no" parallax_speed="0.3" background_blend_mode="none" vi
 deo_aspect_ratio="16:9" video_loop="yes" video_mute="yes" pattern_bg="none
 " pattern_bg_style="default" pattern_bg_opacity="100" pattern_bg_blend_mod
 e="normal" mask_bg="none" mask_bg_style="default" mask_bg_opacity="100" ma
 sk_bg_transform="left" mask_bg_blend_mode="normal" absolute="off" absolute
 _devices="small\,medium\,large" sticky="off" sticky_devices="small-visibil
 ity\,medium-visibility\,large-visibility" sticky_transition_offset="0" scr
 oll_offset="0" animation_direction="left" animation_speed="0.3" filter_hue
 ="0" filter_saturation="100" filter_brightness="100" filter_contrast="100"
  filter_invert="0" filter_sepia="0" filter_opacity="100" filter_blur="0" f
 ilter_hue_hover="0" filter_saturation_hover="100" filter_brightness_hover=
 "100" filter_contrast_hover="100" filter_invert_hover="0" filter_sepia_hov
 er="0" filter_opacity_hover="100" filter_blur_hover="0"][fusion_builder_ro
 w][fusion_builder_column type="1_1" layout="1_1" align_self="auto" content
 _layout="column" align_content="flex-start" valign_content="flex-start" co
 ntent_wrap="wrap" center_content="no" column_tag="div" target="_self" hide
 _on_mobile="small-visibility\,medium-visibility\,large-visibility" sticky_
 display="normal\,sticky" order_medium="0" order_small="0" hover_type="none
 " border_style="solid" box_shadow="no" box_shadow_blur="0" box_shadow_spre
 ad="0" z_index_subgroup="regular" background_type="single" gradient_start_
 position="0" gradient_end_position="100" gradient_type="linear" radial_dir
 ection="center center" linear_angle="180" lazy_load="none" background_posi
 tion="left top" background_repeat="no-repeat" background_blend_mode="none"
  sticky="off" sticky_devices="small-visibility\,medium-visibility\,large-v
 isibility" filter_type="regular" filter_hue="0" filter_saturation="100" fi
 lter_brightness="100" filter_contrast="100" filter_invert="0" filter_sepia
 ="0" filter_opacity="100" filter_blur="0" filter_hue_hover="0" filter_satu
 ration_hover="100" filter_brightness_hover="100" filter_contrast_hover="10
 0" filter_invert_hover="0" filter_sepia_hover="0" filter_opacity_hover="10
 0" filter_blur_hover="0" transform_type="regular" transform_scale_x="1" tr
 ansform_scale_y="1" transform_translate_x="0" transform_translate_y="0" tr
 ansform_rotate="0" transform_skew_x="0" transform_skew_y="0" transform_sca
 le_x_hover="1" transform_scale_y_hover="1" transform_translate_x_hover="0"
  transform_translate_y_hover="0" transform_rotate_hover="0" transform_skew
 _x_hover="0" transform_skew_y_hover="0" animation_direction="left" animati
 on_speed="0.3" last="true" border_position="all" first="true" min_height="
 " link=""][fusion_separator style_type="default" hide_on_mobile="small-vis
 ibility\,medium-visibility\,large-visibility" sticky_display="normal\,stic
 ky" flex_grow="0" alignment="center" /][fusion_separator style_type="defau
 lt" hide_on_mobile="small-visibility\,medium-visibility\,large-visibility"
  sticky_display="normal\,sticky" flex_grow="0" alignment="center" /][fusio
 n_separator style_type="default" hide_on_mobile="small-visibility\,medium-
 visibility\,large-visibility" sticky_display="normal\,sticky" flex_grow="0
 " alignment="center" /][fusion_youtube id="https://youtu.be/VDhL3HQWtjA" a
 utoplay="false" hide_on_mobile="small-visibility\,medium-visibility\,large
 -visibility" structured_data="off" /][/fusion_builder_column][/fusion_buil
 der_row][/fusion_builder_container]
ATTACH;FMTTYPE=image/jpeg:https://www.cza.de/wp-content/uploads/Alpha-02-s
 caled-e1680198675423.jpg
LOCATION:Christus-Zentrum Arche Elmshorn\, Lornsenstraße 53\, Elmshorn\, 2
 5335\, Deutschland
X-APPLE-STRUCTURED-LOCATION;VALUE=URI;X-ADDRESS=Lornsenstraße 53\, Elmshor
 n\, 25335\, Deutschland;X-APPLE-RADIUS=100;X-TITLE=Christus-Zentrum Arche 
 Elmshorn:geo:0,0
END:VEVENT
BEGIN:VTIMEZONE
TZID:Europe/Berlin
X-LIC-LOCATION:Europe/Berlin
BEGIN:DAYLIGHT
DTSTART:20260329T030000
TZOFFSETFROM:+0100
TZOFFSETTO:+0200
TZNAME:CEST
END:DAYLIGHT
END:VTIMEZONE
END:VCALENDAR